BEGIN:VCALENDAR
VERSION:2.0
PRODID:-//wp-events-plugin.com//7.2.3.1//EN
TZID:Europe/Berlin
X-WR-TIMEZONE:Europe/Berlin
BEGIN:VEVENT
UID:1@bhmhamburg.de
DTSTART;TZID=Europe/Berlin:20260211T190000
DTEND;TZID=Europe/Berlin:20260211T224500
DTSTAMP:20260210T082003Z
URL:https://bhmhamburg.de/programm/film-2-green-days-by-the-river/
SUMMARY:Film 2: „Green days by the river“
DESCRIPTION:Im Rahmen des Black History Month wird der Film „Green Days b
 y the River“ gezeigt. \n\nMichael Mooleedhar\, Collective Eye Films
ATTACH;FMTTYPE=image/jpeg:https://bhmhamburg.de/wp-content/uploads/2026/02
 /2.png
CATEGORIES:Film
LOCATION:Metropolis KINO\, Kleine Theaterstraße 10\, Hamburg\, Hamburg\, 2
 0354\, Deutschland
X-APPLE-STRUCTURED-LOCATION;VALUE=URI;X-ADDRESS=Kleine Theaterstraße 10\, 
 Hamburg\, Hamburg\, 20354\, Deutschland;X-APPLE-RADIUS=100;X-TITLE=Metropo
 lis KINO:geo:0,0
END:VEVENT
BEGIN:VTIMEZONE
TZID:Europe/Berlin
X-LIC-LOCATION:Europe/Berlin
BEGIN:STANDARD
DTSTART:20251026T020000
TZOFFSETFROM:+0200
TZOFFSETTO:+0100
TZNAME:CET
END:STANDARD
END:VTIMEZONE
END:VCALENDAR